BEGIN:VCALENDAR
VERSION:2.0
PRODID:-//Prinsejagt 3 - ECPv6.15.20//NONSGML v1.0//EN
CALSCALE:GREGORIAN
METHOD:PUBLISH
X-ORIGINAL-URL:https://www.prinsejagt3.nl
X-WR-CALDESC:Evenementen voor Prinsejagt 3
REFRESH-INTERVAL;VALUE=DURATION:PT1H
X-Robots-Tag:noindex
X-PUBLISHED-TTL:PT1H
BEGIN:VTIMEZONE
TZID:Europe/Amsterdam
BEGIN:DAYLIGHT
TZOFFSETFROM:+0100
TZOFFSETTO:+0200
TZNAME:CEST
DTSTART:20240331T010000
END:DAYLIGHT
BEGIN:STANDARD
TZOFFSETFROM:+0200
TZOFFSETTO:+0100
TZNAME:CET
DTSTART:20241027T010000
END:STANDARD
BEGIN:DAYLIGHT
TZOFFSETFROM:+0100
TZOFFSETTO:+0200
TZNAME:CEST
DTSTART:20250330T010000
END:DAYLIGHT
BEGIN:STANDARD
TZOFFSETFROM:+0200
TZOFFSETTO:+0100
TZNAME:CET
DTSTART:20251026T010000
END:STANDARD
BEGIN:DAYLIGHT
TZOFFSETFROM:+0100
TZOFFSETTO:+0200
TZNAME:CEST
DTSTART:20260329T010000
END:DAYLIGHT
BEGIN:STANDARD
TZOFFSETFROM:+0200
TZOFFSETTO:+0100
TZNAME:CET
DTSTART:20261025T010000
END:STANDARD
END:VTIMEZONE
BEGIN:VEVENT
DTSTART;TZID=Europe/Amsterdam:20250105T143000
DTEND;TZID=Europe/Amsterdam:20250105T163000
DTSTAMP:20260422T073711
CREATED:20241003T120907Z
LAST-MODIFIED:20241215T104951Z
UID:2480-1736087400-1736094600@www.prinsejagt3.nl
SUMMARY:Nieuwjaarsontmoeting 2025
DESCRIPTION:Het trio Los Tres Picos de Europa zal bekende liedjes uit Europa ten gehore brengen. Meezingen mag!\nU bent van harte uitgenodigd om buurtgenoten in een ongedwongen sfeer te ontmoeten\, bij te praten en samen te proosten op het nieuwe jaar.\nGraag tot dan\nHans\, Kees\, Liesje\, Mariëtte\, Marte en Wiebe
URL:https://www.prinsejagt3.nl/event/nieuwjaarsontmoeting-2025/
LOCATION:De Hoeksteen\, Gerretsonlaan 1a\, Eindhoven\, Nederland
CATEGORIES:Muziek,Nieuwjaarsontmoeting
ORGANIZER;CN="Bestuur VWP3":MAILTO:bestuur@prinsejagt3.nl
END:VEVENT
END:VCALENDAR